BEGIN:VCALENDAR
VERSION:2.0
PRODID:-//ACG//Events//EN
CALSCALE:GREGORIAN
METHOD:PUBLISH
BEGIN:VTIMEZONE
TZID:America/Los_Angeles
BEGIN:STANDARD
DTSTART:19701025T090000
TZOFFSETTO:-0800
TZOFFSETFROM:-0700
RRULE:FREQ=YEARLY;BYMONTH=11;BYDAY=1SU
END:STANDARD
BEGIN:DAYLIGHT
DTSTART:19700426T100000
TZOFFSETTO:-0700
TZOFFSETFROM:-0800
RRULE:FREQ=YEARLY;BYMONTH=3;BYDAY=2SU
END:DAYLIGHT
END:VTIMEZONE
BEGIN:VEVENT
UID:145095
DTSTART;TZID=America/Los_Angeles:20250623T173000
DTEND;TZID=America/Los_Angeles:20250624T190000
STATUS:CONFIRMED
SUMMARY:Pre-Conference Happy Hour (No-Hosted Bar)
DESCRIPTION:
LOCATION:The Hideaway: 421 N Rodeo Dr\, Beverly Hills\, CA 90210
URL:https://www.acg.org/los-angeles-498
DTSTAMP:20260421T202034Z
END:VEVENT
END:VCALENDAR
