BEGIN:VCALENDAR
VERSION:2.0
PRODID:-//ACG//Events//EN
CALSCALE:GREGORIAN
METHOD:PUBLISH
BEGIN:VTIMEZONE
TZID:America/New_York
BEGIN:STANDARD
DTSTART:19701025T060000
TZOFFSETTO:-0500
TZOFFSETFROM:-0400
RRULE:FREQ=YEARLY;BYMONTH=11;BYDAY=1SU
END:STANDARD
BEGIN:DAYLIGHT
DTSTART:19700426T070000
TZOFFSETTO:-0400
TZOFFSETFROM:-0500
RRULE:FREQ=YEARLY;BYMONTH=3;BYDAY=2SU
END:DAYLIGHT
END:VTIMEZONE
BEGIN:VEVENT
UID:50774
DTSTART;TZID=America/New_York:20210422T124500
DTEND;TZID=America/New_York:20210422T125000
STATUS:CONFIRMED
SUMMARY:Chairperson Welcome Remarks: Kimberly Petillo-Décossard\, Par
 tner\, Cahill Gordon & Reindel LLP
DESCRIPTION:
URL:https://www.acg.org/nyc-467
DTSTAMP:20260420T110720Z
END:VEVENT
END:VCALENDAR
