BEGIN:VCALENDAR
VERSION:2.0
PRODID:-//ACG//Events//EN
CALSCALE:GREGORIAN
METHOD:PUBLISH
BEGIN:VTIMEZONE
TZID:America/New_York
BEGIN:STANDARD
DTSTART:19701025T060000
TZOFFSETTO:-0500
TZOFFSETFROM:-0400
RRULE:FREQ=YEARLY;BYMONTH=11;BYDAY=1SU
END:STANDARD
BEGIN:DAYLIGHT
DTSTART:19700426T070000
TZOFFSETTO:-0400
TZOFFSETFROM:-0500
RRULE:FREQ=YEARLY;BYMONTH=3;BYDAY=2SU
END:DAYLIGHT
END:VTIMEZONE
BEGIN:VEVENT
UID:50780
DTSTART;TZID=America/New_York:20210422T160000
DTEND;TZID=America/New_York:20210422T163500
STATUS:CONFIRMED
SUMMARY:Afternoon Keynote Fireside Chat | The Power of the Pivot: How 
 to Successfully Change Direction over Time with Stephanie Cohen of Gol
 dman Sachs
DESCRIPTION:
URL:https://www.acg.org/nyc-481
DTSTAMP:20260420T124021Z
END:VEVENT
END:VCALENDAR
