BEGIN:VCALENDAR
VERSION:2.0
PRODID:-//ACG//Events//EN
CALSCALE:GREGORIAN
METHOD:PUBLISH
BEGIN:VTIMEZONE
TZID:America/New_York
BEGIN:STANDARD
DTSTART:19701025T060000
TZOFFSETTO:-0500
TZOFFSETFROM:-0400
RRULE:FREQ=YEARLY;BYMONTH=11;BYDAY=1SU
END:STANDARD
BEGIN:DAYLIGHT
DTSTART:19700426T070000
TZOFFSETTO:-0400
TZOFFSETFROM:-0500
RRULE:FREQ=YEARLY;BYMONTH=3;BYDAY=2SU
END:DAYLIGHT
END:VTIMEZONE
BEGIN:VEVENT
UID:50782
DTSTART;TZID=America/New_York:20210422T171500
DTEND;TZID=America/New_York:20210422T180000
STATUS:CONFIRMED
SUMMARY:Executive Coaching + Wine O'Clock led by Kate Eckman 
DESCRIPTION:
URL:https://www.acg.org/nyc-483
DTSTAMP:20260420T093036Z
END:VEVENT
END:VCALENDAR
