BEGIN:VCALENDAR
VERSION:2.0
PRODID:-//ACG//Events//EN
CALSCALE:GREGORIAN
METHOD:PUBLISH
BEGIN:VTIMEZONE
TZID:America/Los_Angeles
BEGIN:STANDARD
DTSTART:19701025T090000
TZOFFSETTO:-0800
TZOFFSETFROM:-0700
RRULE:FREQ=YEARLY;BYMONTH=11;BYDAY=1SU
END:STANDARD
BEGIN:DAYLIGHT
DTSTART:19700426T100000
TZOFFSETTO:-0700
TZOFFSETFROM:-0800
RRULE:FREQ=YEARLY;BYMONTH=3;BYDAY=2SU
END:DAYLIGHT
END:VTIMEZONE
BEGIN:VEVENT
UID:57689
DTSTART;TZID=America/Los_Angeles:20220602T101500
DTEND;TZID=America/Los_Angeles:20220602T110000
STATUS:CONFIRMED
SUMMARY:Panel 2: NFTs in the Business Environment—Today and the Future
DESCRIPTION:
LOCATION:Sonoma Valley Room
URL:https://www.acg.org/sanfrancisco-37
DTSTAMP:20260423T223256Z
END:VEVENT
END:VCALENDAR
