BEGIN:VCALENDAR
VERSION:2.0
PRODID:-//ACG//Events//EN
CALSCALE:GREGORIAN
METHOD:PUBLISH
BEGIN:VTIMEZONE
TZID:America/New_York
BEGIN:STANDARD
DTSTART:19701025T060000
TZOFFSETTO:-0500
TZOFFSETFROM:-0400
RRULE:FREQ=YEARLY;BYMONTH=11;BYDAY=1SU
END:STANDARD
BEGIN:DAYLIGHT
DTSTART:19700426T070000
TZOFFSETTO:-0400
TZOFFSETFROM:-0500
RRULE:FREQ=YEARLY;BYMONTH=3;BYDAY=2SU
END:DAYLIGHT
END:VTIMEZONE
BEGIN:VEVENT
UID:cb7f2ac7-25dd-4044-9450-05223b7a141f
DTSTART;TZID=America/New_York:20170607T170000
DTEND;TZID=America/New_York:20170607T193000
STATUS:CONFIRMED
SUMMARY:Detroit Food Scene - Finding Success in a Food-Crazy City
DESCRIPTION:
LOCATION:Detroit Athletic Club\n241 Madison Street\nDetroit\\, MI 48226
URL:https://www.acg.org/detroit/events/detroit-food-scene-finding-succ
 ess-food-crazy-city
DTSTAMP:20260422T171710Z
END:VEVENT
END:VCALENDAR
