BEGIN:VCALENDAR
VERSION:2.0
PRODID:-//ACG//Events//EN
CALSCALE:GREGORIAN
METHOD:PUBLISH
BEGIN:VTIMEZONE
TZID:America/New_York
BEGIN:STANDARD
DTSTART:19701025T060000
TZOFFSETTO:-0500
TZOFFSETFROM:-0400
RRULE:FREQ=YEARLY;BYMONTH=11;BYDAY=1SU
END:STANDARD
BEGIN:DAYLIGHT
DTSTART:19700426T070000
TZOFFSETTO:-0400
TZOFFSETFROM:-0500
RRULE:FREQ=YEARLY;BYMONTH=3;BYDAY=2SU
END:DAYLIGHT
END:VTIMEZONE
BEGIN:VEVENT
UID:e8cb9e08-477f-4457-a0a9-50441e8f6459
DTSTART;TZID=America/New_York:20171026T183000
DTEND;TZID=America/New_York:20171026T210000
STATUS:CONFIRMED
SUMMARY:Tampa - The Future of Florida Banking
DESCRIPTION:
LOCATION:University Club of Tampa\n201 North Franklin Street\nTampa\\,
  FL 33602
URL:https://www.acg.org/tampabay/events/tampa-future-florida-banking
DTSTAMP:20260423T175959Z
END:VEVENT
END:VCALENDAR
