BEGIN:VCALENDAR
VERSION:2.0
PRODID:-//ACG//Events//EN
CALSCALE:GREGORIAN
METHOD:PUBLISH
BEGIN:VTIMEZONE
TZID:America/New_York
BEGIN:STANDARD
DTSTART:19701025T060000
TZOFFSETTO:-0500
TZOFFSETFROM:-0400
RRULE:FREQ=YEARLY;BYMONTH=11;BYDAY=1SU
END:STANDARD
BEGIN:DAYLIGHT
DTSTART:19700426T070000
TZOFFSETTO:-0400
TZOFFSETFROM:-0500
RRULE:FREQ=YEARLY;BYMONTH=3;BYDAY=2SU
END:DAYLIGHT
END:VTIMEZONE
BEGIN:VEVENT
UID:4e6846bc-d307-4688-9df1-8fc4f55e70bf
DTSTART;TZID=America/New_York:20170510T173000
DTEND;TZID=America/New_York:20170510T203000
STATUS:CONFIRMED
SUMMARY:A Networking Night in Providence w/ Chris Crosby\, Managing Di
 rector\, Nautic Partners
DESCRIPTION:
URL:https://www.acg.org/boston/events/networking-night-providence-w-ch
 ris-crosby-managing-director-nautic-partners
DTSTAMP:20260420T165843Z
END:VEVENT
END:VCALENDAR
