BEGIN:VCALENDAR
VERSION:2.0
PRODID:-//ACG//Events//EN
CALSCALE:GREGORIAN
METHOD:PUBLISH
BEGIN:VTIMEZONE
TZID:America/New_York
BEGIN:STANDARD
DTSTART:19701025T060000
TZOFFSETTO:-0500
TZOFFSETFROM:-0400
RRULE:FREQ=YEARLY;BYMONTH=11;BYDAY=1SU
END:STANDARD
BEGIN:DAYLIGHT
DTSTART:19700426T070000
TZOFFSETTO:-0400
TZOFFSETFROM:-0500
RRULE:FREQ=YEARLY;BYMONTH=3;BYDAY=2SU
END:DAYLIGHT
END:VTIMEZONE
BEGIN:VEVENT
UID:44c69f5f-252e-4fcc-a1f8-ca122c2438ca
DTSTART;TZID=America/New_York:20170517T123000
DTEND;TZID=America/New_York:20170517T143000
STATUS:CONFIRMED
SUMMARY:11th Annual SMART Awards Luncheon
DESCRIPTION:
URL:https://www.acg.org/orlando/events/11th-annual-smart-awards-luncheon
DTSTAMP:20260424T061045Z
END:VEVENT
END:VCALENDAR
