BEGIN:VCALENDAR
VERSION:2.0
PRODID:-//ACG//Events//EN
CALSCALE:GREGORIAN
METHOD:PUBLISH
BEGIN:VTIMEZONE
TZID:America/Chicago
BEGIN:STANDARD
DTSTART:19701025T070000
TZOFFSETTO:-0600
TZOFFSETFROM:-0500
RRULE:FREQ=YEARLY;BYMONTH=11;BYDAY=1SU
END:STANDARD
BEGIN:DAYLIGHT
DTSTART:19700426T080000
TZOFFSETTO:-0500
TZOFFSETFROM:-0600
RRULE:FREQ=YEARLY;BYMONTH=3;BYDAY=2SU
END:DAYLIGHT
END:VTIMEZONE
BEGIN:VEVENT
UID:c8842028-6fce-4eb1-96fd-13debaab371c
DTSTART;TZID=America/Chicago:20160511T113000
DTEND;TZID=America/Chicago:20160511T130000
STATUS:CONFIRMED
SUMMARY:ACG In Austin: Panel of Austin's Former Mayors on 5/11/16
DESCRIPTION:
URL:https://www.acg.org/asa/events/acg-austin-panel-austins-former-may
 ors-51116
DTSTAMP:20260423T221301Z
END:VEVENT
END:VCALENDAR
