BEGIN:VCALENDAR
VERSION:2.0
PRODID:-//ACG//Events//EN
CALSCALE:GREGORIAN
METHOD:PUBLISH
BEGIN:VTIMEZONE
TZID:America/Chicago
BEGIN:STANDARD
DTSTART:19701025T070000
TZOFFSETTO:-0600
TZOFFSETFROM:-0500
RRULE:FREQ=YEARLY;BYMONTH=11;BYDAY=1SU
END:STANDARD
BEGIN:DAYLIGHT
DTSTART:19700426T080000
TZOFFSETTO:-0500
TZOFFSETFROM:-0600
RRULE:FREQ=YEARLY;BYMONTH=3;BYDAY=2SU
END:DAYLIGHT
END:VTIMEZONE
BEGIN:VEVENT
UID:5b0ffc44-9bd7-4331-b569-22c79ffe54b2
DTSTART;TZID=America/Chicago:20140617T000000
DTEND;TZID=America/Chicago:20140618T000000
STATUS:CONFIRMED
SUMMARY:Welk Resort's Remarkable Success
DESCRIPTION:
URL:https://www.acg.org/sandiego/events/welk-resorts-remarkable-success
DTSTAMP:20260422T173025Z
END:VEVENT
END:VCALENDAR
