BEGIN:VCALENDAR
VERSION:2.0
PRODID:-//ACG//Events//EN
CALSCALE:GREGORIAN
METHOD:PUBLISH
BEGIN:VTIMEZONE
TZID:America/Chicago
BEGIN:STANDARD
DTSTART:19701025T070000
TZOFFSETTO:-0600
TZOFFSETFROM:-0500
RRULE:FREQ=YEARLY;BYMONTH=11;BYDAY=1SU
END:STANDARD
BEGIN:DAYLIGHT
DTSTART:19700426T080000
TZOFFSETTO:-0500
TZOFFSETFROM:-0600
RRULE:FREQ=YEARLY;BYMONTH=3;BYDAY=2SU
END:DAYLIGHT
END:VTIMEZONE
BEGIN:VEVENT
UID:764cfe9d-eb4c-4ae5-9fb8-25d5572bd827
DTSTART;TZID=America/Chicago:20160304T073000
DTEND;TZID=America/Chicago:20160304T093000
STATUS:CONFIRMED
SUMMARY:ACG CT Investment Banking / Intermediary Expo 2016
DESCRIPTION:
URL:https://www.acg.org/connecticut/events/acg-ct-investment-banking-i
 ntermediary-expo-2016
DTSTAMP:20260425T011147Z
END:VEVENT
END:VCALENDAR
