BEGIN:VCALENDAR
VERSION:2.0
PRODID:-//ACG//Events//EN
CALSCALE:GREGORIAN
METHOD:PUBLISH
BEGIN:VTIMEZONE
TZID:America/New_York
BEGIN:STANDARD
DTSTART:19701025T060000
TZOFFSETTO:-0500
TZOFFSETFROM:-0400
RRULE:FREQ=YEARLY;BYMONTH=11;BYDAY=1SU
END:STANDARD
BEGIN:DAYLIGHT
DTSTART:19700426T070000
TZOFFSETTO:-0400
TZOFFSETFROM:-0500
RRULE:FREQ=YEARLY;BYMONTH=3;BYDAY=2SU
END:DAYLIGHT
END:VTIMEZONE
BEGIN:VEVENT
UID:88599476-bc31-4449-8259-2e24ca4ef958
DTSTART;TZID=America/New_York:20141113T183000
DTEND;TZID=America/New_York:20141113T210000
STATUS:CONFIRMED
SUMMARY:EP Event - David Osterweil\, Founder & CEO\, Fitlife Foods
DESCRIPTION:
URL:https://www.acg.org/tampabay/events/ep-event-david-osterweil-found
 er-ceo-fitlife-foods
DTSTAMP:20260425T122651Z
END:VEVENT
END:VCALENDAR
