BEGIN:VCALENDAR
VERSION:2.0
PRODID:-//ACG//Events//EN
CALSCALE:GREGORIAN
METHOD:PUBLISH
BEGIN:VTIMEZONE
TZID:America/New_York
BEGIN:STANDARD
DTSTART:19701025T060000
TZOFFSETTO:-0500
TZOFFSETFROM:-0400
RRULE:FREQ=YEARLY;BYMONTH=11;BYDAY=1SU
END:STANDARD
BEGIN:DAYLIGHT
DTSTART:19700426T070000
TZOFFSETTO:-0400
TZOFFSETFROM:-0500
RRULE:FREQ=YEARLY;BYMONTH=3;BYDAY=2SU
END:DAYLIGHT
END:VTIMEZONE
BEGIN:VEVENT
UID:fa92df67-cfbf-4911-b921-3f0700166d4e
DTSTART;TZID=America/New_York:20160113T010000
DTEND;TZID=America/New_York:20160113T010000
STATUS:CONFIRMED
SUMMARY:Breakfast Series - Protecting Your Brand - Intellectual Proper
 ty (Members Only and their Guests)
DESCRIPTION:
URL:https://www.acg.org/tampabay/events/breakfast-series-protecting-yo
 ur-brand-intellectual-property-members-only-and-their
DTSTAMP:20260425T231938Z
END:VEVENT
END:VCALENDAR
