BEGIN:VCALENDAR
VERSION:2.0
PRODID:-//ACG//Events//EN
CALSCALE:GREGORIAN
METHOD:PUBLISH
BEGIN:VTIMEZONE
TZID:America/New_York
BEGIN:STANDARD
DTSTART:19701025T060000
TZOFFSETTO:-0500
TZOFFSETFROM:-0400
RRULE:FREQ=YEARLY;BYMONTH=11;BYDAY=1SU
END:STANDARD
BEGIN:DAYLIGHT
DTSTART:19700426T070000
TZOFFSETTO:-0400
TZOFFSETFROM:-0500
RRULE:FREQ=YEARLY;BYMONTH=3;BYDAY=2SU
END:DAYLIGHT
END:VTIMEZONE
BEGIN:VEVENT
UID:5258bfae-f67c-4517-b1e8-533bada5b2fd
DTSTART;TZID=America/New_York:20161209T083000
DTEND;TZID=America/New_York:20161209T103000
STATUS:CONFIRMED
SUMMARY:Cannabis Investing Westchester Breakfast - 120916
DESCRIPTION:
URL:https://www.acg.org/nyc/events/cannabis-investing-westchester-brea
 kfast-120916
DTSTAMP:20260419T130603Z
END:VEVENT
END:VCALENDAR
