BEGIN:VCALENDAR
VERSION:2.0
PRODID:-//ACG//Events//EN
CALSCALE:GREGORIAN
METHOD:PUBLISH
BEGIN:VTIMEZONE
TZID:America/New_York
BEGIN:STANDARD
DTSTART:19701025T060000
TZOFFSETTO:-0500
TZOFFSETFROM:-0400
RRULE:FREQ=YEARLY;BYMONTH=11;BYDAY=1SU
END:STANDARD
BEGIN:DAYLIGHT
DTSTART:19700426T070000
TZOFFSETTO:-0400
TZOFFSETFROM:-0500
RRULE:FREQ=YEARLY;BYMONTH=3;BYDAY=2SU
END:DAYLIGHT
END:VTIMEZONE
BEGIN:VEVENT
UID:e85b2f46-15a7-4a19-9d38-5b4d696a4d80
DTSTART;TZID=America/New_York:20161117T080000
DTEND;TZID=America/New_York:20161117T100000
STATUS:CONFIRMED
SUMMARY:Networking Breakfast :: The State of the VC Market Panel
DESCRIPTION:
URL:https://www.acg.org/boston/events/networking-breakfast-state-vc-ma
 rket-panel
DTSTAMP:20260422T050130Z
END:VEVENT
END:VCALENDAR
