BEGIN:VCALENDAR
VERSION:2.0
PRODID:-//ACG//Events//EN
CALSCALE:GREGORIAN
METHOD:PUBLISH
BEGIN:VTIMEZONE
TZID:America/Chicago
BEGIN:STANDARD
DTSTART:19701025T070000
TZOFFSETTO:-0600
TZOFFSETFROM:-0500
RRULE:FREQ=YEARLY;BYMONTH=11;BYDAY=1SU
END:STANDARD
BEGIN:DAYLIGHT
DTSTART:19700426T080000
TZOFFSETTO:-0500
TZOFFSETFROM:-0600
RRULE:FREQ=YEARLY;BYMONTH=3;BYDAY=2SU
END:DAYLIGHT
END:VTIMEZONE
BEGIN:VEVENT
UID:02901bc4-db82-4d8f-8606-70b3bc755f73
DTSTART;TZID=America/Chicago:20151016T073000
DTEND;TZID=America/Chicago:20151016T091500
STATUS:CONFIRMED
SUMMARY:Monthly Meeting - Jim Bankoff\, Chairman and CEO\, Vox Media
DESCRIPTION:
URL:https://www.acg.org/national-capital/events/monthly-meeting-jim-ba
 nkoff-chairman-and-ceo-vox-media
DTSTAMP:20260420T110613Z
END:VEVENT
END:VCALENDAR
