BEGIN:VCALENDAR
VERSION:2.0
PRODID:-//ACG//Events//EN
CALSCALE:GREGORIAN
METHOD:PUBLISH
BEGIN:VTIMEZONE
TZID:America/Chicago
BEGIN:STANDARD
DTSTART:19701025T070000
TZOFFSETTO:-0600
TZOFFSETFROM:-0500
RRULE:FREQ=YEARLY;BYMONTH=11;BYDAY=1SU
END:STANDARD
BEGIN:DAYLIGHT
DTSTART:19700426T080000
TZOFFSETTO:-0500
TZOFFSETFROM:-0600
RRULE:FREQ=YEARLY;BYMONTH=3;BYDAY=2SU
END:DAYLIGHT
END:VTIMEZONE
BEGIN:VEVENT
UID:86a9bfe5-567f-4509-8ab9-90b2a857c37e
DTSTART;TZID=America/Chicago:20150515T073000
DTEND;TZID=America/Chicago:20150515T091500
STATUS:CONFIRMED
SUMMARY:Monthly Meeting - Bill Angrick\, CEO and Chairman\, Liquidity 
 Services\, Inc.
DESCRIPTION:
URL:https://www.acg.org/national-capital/events/monthly-meeting-bill-a
 ngrick-ceo-and-chairman-liquidity-services-inc
DTSTAMP:20260424T190253Z
END:VEVENT
END:VCALENDAR
