BEGIN:VCALENDAR
VERSION:2.0
PRODID:-//ACG//Events//EN
CALSCALE:GREGORIAN
METHOD:PUBLISH
BEGIN:VTIMEZONE
TZID:US/Pacific
BEGIN:STANDARD
DTSTART:19701025T090000
TZOFFSETTO:-0800
TZOFFSETFROM:-0700
RRULE:FREQ=YEARLY;BYMONTH=11;BYDAY=1SU
END:STANDARD
BEGIN:DAYLIGHT
DTSTART:19700426T100000
TZOFFSETTO:-0700
TZOFFSETFROM:-0800
RRULE:FREQ=YEARLY;BYMONTH=3;BYDAY=2SU
END:DAYLIGHT
END:VTIMEZONE
BEGIN:VEVENT
UID:2023-STATE-OF-PRIVATE-EQUITY-LOWER-MIDDLE-MARKET-FAMILY-OFFICE
DTSTART;TZID=US/Pacific:20231116T170020
DTEND;TZID=US/Pacific:20231116T200033
STATUS:CONFIRMED
SUMMARY:2023 ACG Los Angeles | State of Middle Market M&A
DESCRIPTION:
LOCATION:The Maybourne Beverly Hills\n225 North Canon Drive\nBeverly H
 ills\\, CA 90210
URL:https://www.acg.org/los-angeles/events/2023-acg-los-angeles-state-
 middle-market-ma
DTSTAMP:20260422T092943Z
END:VEVENT
END:VCALENDAR
