BEGIN:VCALENDAR
VERSION:2.0
PRODID:-//ACG//Events//EN
CALSCALE:GREGORIAN
METHOD:PUBLISH
BEGIN:VTIMEZONE
TZID:America/New_York
BEGIN:STANDARD
DTSTART:19701025T060000
TZOFFSETTO:-0500
TZOFFSETFROM:-0400
RRULE:FREQ=YEARLY;BYMONTH=11;BYDAY=1SU
END:STANDARD
BEGIN:DAYLIGHT
DTSTART:19700426T070000
TZOFFSETTO:-0400
TZOFFSETFROM:-0500
RRULE:FREQ=YEARLY;BYMONTH=3;BYDAY=2SU
END:DAYLIGHT
END:VTIMEZONE
BEGIN:VEVENT
UID:MONTHLY-MEETING-ALTERNATIVE-EXITS
DTSTART;TZID=America/New_York:20231109T073057
DTEND;TZID=America/New_York:20231109T093057
STATUS:CONFIRMED
SUMMARY:Show Me the Money! Alternative Paths to Liquidity for Closely 
 Held Businesses
DESCRIPTION:
LOCATION:Holland and Knight\, 16th Floor\n1650 Tysons Boulevard\nTyson
 s\\, VA 22102
URL:https://www.acg.org/national-capital/events/show-me-money-alternat
 ive-paths-liquidity-closely-held-businesses
DTSTAMP:20260424T172710Z
END:VEVENT
END:VCALENDAR
