BEGIN:VCALENDAR
VERSION:2.0
PRODID:-//ACG//Events//EN
CALSCALE:GREGORIAN
METHOD:PUBLISH
BEGIN:VTIMEZONE
TZID:America/Chicago
BEGIN:STANDARD
DTSTART:19701025T070000
TZOFFSETTO:-0600
TZOFFSETFROM:-0500
RRULE:FREQ=YEARLY;BYMONTH=11;BYDAY=1SU
END:STANDARD
BEGIN:DAYLIGHT
DTSTART:19700426T080000
TZOFFSETTO:-0500
TZOFFSETFROM:-0600
RRULE:FREQ=YEARLY;BYMONTH=3;BYDAY=2SU
END:DAYLIGHT
END:VTIMEZONE
BEGIN:VEVENT
UID:AUG-2023-OPERATOR-S-VIRTUAL-SUMMIT-ACCELERATING-VALUE-CREATION
DTSTART;TZID=America/Chicago:20230816T120045
DTEND;TZID=America/Chicago:20230816T150045
STATUS:CONFIRMED
SUMMARY:Virtual Operators' Summit: Accelerating Value Creation
DESCRIPTION:
LOCATION:Zoom\n
URL:https://www.acg.org/events/operatorsummit2023
DTSTAMP:20260421T120549Z
END:VEVENT
END:VCALENDAR
