BEGIN:VCALENDAR
VERSION:2.0
PRODID:-//ACG//Events//EN
CALSCALE:GREGORIAN
METHOD:PUBLISH
BEGIN:VTIMEZONE
TZID:America/New_York
BEGIN:STANDARD
DTSTART:19701025T060000
TZOFFSETTO:-0500
TZOFFSETFROM:-0400
RRULE:FREQ=YEARLY;BYMONTH=11;BYDAY=1SU
END:STANDARD
BEGIN:DAYLIGHT
DTSTART:19700426T070000
TZOFFSETTO:-0400
TZOFFSETFROM:-0500
RRULE:FREQ=YEARLY;BYMONTH=3;BYDAY=2SU
END:DAYLIGHT
END:VTIMEZONE
BEGIN:VEVENT
UID:2024-ACG-NEXT
DTSTART;TZID=America/New_York:20240124T120043
DTEND;TZID=America/New_York:20240124T193043
STATUS:CONFIRMED
SUMMARY:2024 ACG Next
DESCRIPTION:
LOCATION:Capital One Headquarters\, C2 Bldg\, Auditorium and Atrium\n1
 680 Capital One Drive\nMcLean\\, VA 22102
URL:https://www.acg.org/national-capital/events/2024-acg-next
DTSTAMP:20260422T192152Z
END:VEVENT
END:VCALENDAR
