BEGIN:VCALENDAR
VERSION:2.0
PRODID:-//ACG//Events//EN
CALSCALE:GREGORIAN
METHOD:PUBLISH
BEGIN:VTIMEZONE
TZID:America/New_York
BEGIN:STANDARD
DTSTART:19701025T060000
TZOFFSETTO:-0500
TZOFFSETFROM:-0400
RRULE:FREQ=YEARLY;BYMONTH=11;BYDAY=1SU
END:STANDARD
BEGIN:DAYLIGHT
DTSTART:19700426T070000
TZOFFSETTO:-0400
TZOFFSETFROM:-0500
RRULE:FREQ=YEARLY;BYMONTH=3;BYDAY=2SU
END:DAYLIGHT
END:VTIMEZONE
BEGIN:VEVENT
UID:ACG-ATLANTA-AT-THE-2023-ATLANTA-OPEN-TENNIS-TOURNAMENT
DTSTART;TZID=America/New_York:20230722T100050
DTEND;TZID=America/New_York:20230730T170050
STATUS:CONFIRMED
SUMMARY:ACG Atlanta at the 2023 Atlanta Open Tennis Tournament
DESCRIPTION:
LOCATION:Atlantic Station\n1380 Atlantic Drive Northwest\nAtlanta\\, G
 A 30363
URL:https://www.acg.org/atlanta/events/acg-atlanta-2023-atlanta-open-t
 ennis-tournament
DTSTAMP:20260424T172711Z
END:VEVENT
END:VCALENDAR
