BEGIN:VCALENDAR
VERSION:2.0
PRODID:-//ACG//Events//EN
CALSCALE:GREGORIAN
METHOD:PUBLISH
BEGIN:VTIMEZONE
TZID:America/New_York
BEGIN:STANDARD
DTSTART:19701025T060000
TZOFFSETTO:-0500
TZOFFSETFROM:-0400
RRULE:FREQ=YEARLY;BYMONTH=11;BYDAY=1SU
END:STANDARD
BEGIN:DAYLIGHT
DTSTART:19700426T070000
TZOFFSETTO:-0400
TZOFFSETFROM:-0500
RRULE:FREQ=YEARLY;BYMONTH=3;BYDAY=2SU
END:DAYLIGHT
END:VTIMEZONE
BEGIN:VEVENT
UID:ACG-GROWTH-STORY-BRETT-SCHULMAN-CEO-OF-CAVA
DTSTART;TZID=America/New_York:20231025T073055
DTEND;TZID=America/New_York:20231025T093055
STATUS:CONFIRMED
SUMMARY:ACG Growth Story: Brett Schulman\, CEO of CAVA
DESCRIPTION:
LOCATION:The Tower Club\n8000 Towers Crescent Drive\nVienna\\, VA 22182
URL:https://www.acg.org/national-capital/events/acg-growth-story-brett
 -schulman-ceo-cava
DTSTAMP:20260420T150809Z
END:VEVENT
END:VCALENDAR
