BEGIN:VCALENDAR
VERSION:2.0
PRODID:-//ACG//Events//EN
CALSCALE:GREGORIAN
METHOD:PUBLISH
BEGIN:VTIMEZONE
TZID:America/Chicago
BEGIN:STANDARD
DTSTART:19701025T070000
TZOFFSETTO:-0600
TZOFFSETFROM:-0500
RRULE:FREQ=YEARLY;BYMONTH=11;BYDAY=1SU
END:STANDARD
BEGIN:DAYLIGHT
DTSTART:19700426T080000
TZOFFSETTO:-0500
TZOFFSETFROM:-0600
RRULE:FREQ=YEARLY;BYMONTH=3;BYDAY=2SU
END:DAYLIGHT
END:VTIMEZONE
BEGIN:VEVENT
UID:2023-ACG-WI-OUTSTANDING-CORPORATE-GROWTH-LEADERSHIP-AWARDS
DTSTART;TZID=America/Chicago:20231208T111511
DTEND;TZID=America/Chicago:20231208T131528
STATUS:CONFIRMED
SUMMARY:2023 ACG WI | Outstanding Corporate Growth & Leadership Awards
DESCRIPTION:
LOCATION:Italian Community Center\n631 East Chicago Street\nMilwaukee\
 \, WI 53202
URL:https://www.acg.org/wisconsin/events/2023-acg-wi-outstanding-corpo
 rate-growth-leadership-awards
DTSTAMP:20260422T133922Z
END:VEVENT
END:VCALENDAR
