BEGIN:VCALENDAR
VERSION:2.0
PRODID:-//ACG//Events//EN
CALSCALE:GREGORIAN
METHOD:PUBLISH
BEGIN:VTIMEZONE
TZID:America/New_York
BEGIN:STANDARD
DTSTART:19701025T060000
TZOFFSETTO:-0500
TZOFFSETFROM:-0400
RRULE:FREQ=YEARLY;BYMONTH=11;BYDAY=1SU
END:STANDARD
BEGIN:DAYLIGHT
DTSTART:19700426T070000
TZOFFSETTO:-0400
TZOFFSETFROM:-0500
RRULE:FREQ=YEARLY;BYMONTH=3;BYDAY=2SU
END:DAYLIGHT
END:VTIMEZONE
BEGIN:VEVENT
UID:2024-ACG-NY-FAMILY-OFFICE-AND-LIMITED-PARTNER-SERIES-VIP-SUMMER-SOIREE
DTSTART;TZID=America/New_York:20240627T173057
DTEND;TZID=America/New_York:20240627T200057
STATUS:CONFIRMED
SUMMARY:2024 ACG NY Family Office and Limited Partner Series - VIP Sum
 mer Soiree
DESCRIPTION:
LOCATION:The Vaults\n40 Wall Street\nNew York\\, NY 10005
URL:https://www.acg.org/nyc/events/2024-acg-ny-family-office-and-limit
 ed-partner-series-vip-summer-soiree
DTSTAMP:20260420T111543Z
END:VEVENT
END:VCALENDAR
