BEGIN:VCALENDAR
VERSION:2.0
PRODID:-//ACG//Events//EN
CALSCALE:GREGORIAN
METHOD:PUBLISH
BEGIN:VTIMEZONE
TZID:America/Detroit
BEGIN:STANDARD
DTSTART:19700101T060000
TZOFFSETTO:-0500
TZOFFSETFROM:-0500
END:STANDARD
END:VTIMEZONE
BEGIN:VEVENT
UID:134952
DTSTART;TZID=America/Detroit:20231012T180000
DTEND;TZID=America/Detroit:20231013T140000
STATUS:CONFIRMED
SUMMARY:19th Annual U of M Private Equity Conference
DESCRIPTION:
LOCATION:University of Michigan Union Rogel Ballroom (2nd Floor)\n530 
 S State Street\nAnn Arbor\\, MI 48109-1308
URL:https://www.acg.org/detroit/events/19th-annual-u-m-private-equity-
 conference
DTSTAMP:20260424T173120Z
END:VEVENT
END:VCALENDAR
