BEGIN:VCALENDAR
VERSION:2.0
PRODID:-//ACG//Events//EN
CALSCALE:GREGORIAN
METHOD:PUBLISH
BEGIN:VTIMEZONE
TZID:US/Mountain
BEGIN:STANDARD
DTSTART:19701025T080000
TZOFFSETTO:-0700
TZOFFSETFROM:-0600
RRULE:FREQ=YEARLY;BYMONTH=11;BYDAY=1SU
END:STANDARD
BEGIN:DAYLIGHT
DTSTART:19700426T090000
TZOFFSETTO:-0600
TZOFFSETFROM:-0700
RRULE:FREQ=YEARLY;BYMONTH=3;BYDAY=2SU
END:DAYLIGHT
END:VTIMEZONE
BEGIN:VEVENT
UID:UTAH-NOVEMBER-2023-BREAKFAST-SPEAKER-SERIES
DTSTART;TZID=US/Mountain:20231114T071546
DTEND;TZID=US/Mountain:20231114T090004
STATUS:CONFIRMED
SUMMARY:Utah\, November 2023 Breakfast Speaker Series
DESCRIPTION:
LOCATION:Zions Bank Building\n1 South Main Street\nSalt Lake City\\, U
 T 84111
URL:https://www.acg.org/utah/events/utah-november-2023-breakfast-speak
 er-series
DTSTAMP:20260425T152045Z
END:VEVENT
END:VCALENDAR
