BEGIN:VCALENDAR
VERSION:2.0
PRODID:-//ACG//Events//EN
CALSCALE:GREGORIAN
METHOD:PUBLISH
BEGIN:VTIMEZONE
TZID:America/New_York
BEGIN:STANDARD
DTSTART:19701025T060000
TZOFFSETTO:-0500
TZOFFSETFROM:-0400
RRULE:FREQ=YEARLY;BYMONTH=11;BYDAY=1SU
END:STANDARD
BEGIN:DAYLIGHT
DTSTART:19700426T070000
TZOFFSETTO:-0400
TZOFFSETFROM:-0500
RRULE:FREQ=YEARLY;BYMONTH=3;BYDAY=2SU
END:DAYLIGHT
END:VTIMEZONE
BEGIN:VEVENT
UID:135758
DTSTART;TZID=America/New_York:20240724T173000
DTEND;TZID=America/New_York:20240724T193000
STATUS:CONFIRMED
SUMMARY:7th Annual ACG CT & XPX CT Beer & BBQ
DESCRIPTION:
LOCATION:Stony Creek Brewery\, 5 Indian Neck Ave\, Branford\, CT 06405\n
URL:https://www.acg.org/connecticut/events/7th-annual-acg-ct-xpx-ct-be
 er-bbq
DTSTAMP:20260423T083905Z
END:VEVENT
END:VCALENDAR
