BEGIN:VCALENDAR
VERSION:2.0
PRODID:-//ACG//Events//EN
CALSCALE:GREGORIAN
METHOD:PUBLISH
BEGIN:VTIMEZONE
TZID:America/Chicago
BEGIN:STANDARD
DTSTART:19701025T070000
TZOFFSETTO:-0600
TZOFFSETFROM:-0500
RRULE:FREQ=YEARLY;BYMONTH=11;BYDAY=1SU
END:STANDARD
BEGIN:DAYLIGHT
DTSTART:19700426T080000
TZOFFSETTO:-0500
TZOFFSETFROM:-0600
RRULE:FREQ=YEARLY;BYMONTH=3;BYDAY=2SU
END:DAYLIGHT
END:VTIMEZONE
BEGIN:VEVENT
UID:135800
DTSTART;TZID=America/Chicago:20240425T080000
DTEND;TZID=America/Chicago:20240425T093000
STATUS:CONFIRMED
SUMMARY:Women's Leadership: 10 Steps to the Spotlight: Building a Pers
 onal Brand
DESCRIPTION:
URL:https://www.acg.org/minnesota/events/womens-leadership-10-steps-sp
 otlight-building-personal-brand
DTSTAMP:20260425T102823Z
END:VEVENT
END:VCALENDAR
