BEGIN:VCALENDAR
VERSION:2.0
PRODID:-//ACG//Events//EN
CALSCALE:GREGORIAN
METHOD:PUBLISH
BEGIN:VTIMEZONE
TZID:America/New_York
BEGIN:STANDARD
DTSTART:19701025T060000
TZOFFSETTO:-0500
TZOFFSETFROM:-0400
RRULE:FREQ=YEARLY;BYMONTH=11;BYDAY=1SU
END:STANDARD
BEGIN:DAYLIGHT
DTSTART:19700426T070000
TZOFFSETTO:-0400
TZOFFSETFROM:-0500
RRULE:FREQ=YEARLY;BYMONTH=3;BYDAY=2SU
END:DAYLIGHT
END:VTIMEZONE
BEGIN:VEVENT
UID:230a500a-d479-4f13-8ff7-ba94818661e4
DTSTART;TZID=America/New_York:20161027T183000
DTEND;TZID=America/New_York:20161027T210000
STATUS:CONFIRMED
SUMMARY:"We Don't Just Clip Coupons"\, Family Office Discussion -  Tam
 pa Meeting
DESCRIPTION:
URL:https://www.acg.org/tampabay/events/we-dont-just-clip-coupons-fami
 ly-office-discussion-tampa-meeting
DTSTAMP:20260424T172437Z
END:VEVENT
END:VCALENDAR
