BEGIN:VCALENDAR
VERSION:2.0
PRODID:-//ACG//Events//EN
CALSCALE:GREGORIAN
METHOD:PUBLISH
BEGIN:VTIMEZONE
TZID:America/Chicago
BEGIN:STANDARD
DTSTART:19701025T070000
TZOFFSETTO:-0600
TZOFFSETFROM:-0500
RRULE:FREQ=YEARLY;BYMONTH=11;BYDAY=1SU
END:STANDARD
BEGIN:DAYLIGHT
DTSTART:19700426T080000
TZOFFSETTO:-0500
TZOFFSETFROM:-0600
RRULE:FREQ=YEARLY;BYMONTH=3;BYDAY=2SU
END:DAYLIGHT
END:VTIMEZONE
BEGIN:VEVENT
UID:2024-ACG-NEBRASKA-APRIL-BREAKFAST-MEETING-WITH-NIKKI-OSBORN
DTSTART;TZID=America/Chicago:20240425T070056
DTEND;TZID=America/Chicago:20240425T090017
STATUS:CONFIRMED
SUMMARY:2024 ACG Nebraska | April Breakfast Meeting with Nikki Osborn
DESCRIPTION:
LOCATION:Happy Hollow Country Club\n1701 South 105th Street\nOmaha\\, 
 NE 68124
URL:https://www.acg.org/nebraska/events/2024-acg-nebraska-april-breakf
 ast-meeting-nikki-osborn
DTSTAMP:20260425T103552Z
END:VEVENT
END:VCALENDAR
