BEGIN:VCALENDAR
VERSION:2.0
PRODID:-//ACG//Events//EN
CALSCALE:GREGORIAN
METHOD:PUBLISH
BEGIN:VTIMEZONE
TZID:America/Los_Angeles
BEGIN:STANDARD
DTSTART:19701025T090000
TZOFFSETTO:-0800
TZOFFSETFROM:-0700
RRULE:FREQ=YEARLY;BYMONTH=11;BYDAY=1SU
END:STANDARD
BEGIN:DAYLIGHT
DTSTART:19700426T100000
TZOFFSETTO:-0700
TZOFFSETFROM:-0800
RRULE:FREQ=YEARLY;BYMONTH=3;BYDAY=2SU
END:DAYLIGHT
END:VTIMEZONE
BEGIN:VEVENT
UID:ACG-101-2024-YOUNG-PROFESSIONALS-KICK-OFF-SOCIAL
DTSTART;TZID=America/Los_Angeles:20240307T173031
DTEND;TZID=America/Los_Angeles:20240307T203048
STATUS:CONFIRMED
SUMMARY:ACG 101 2024 YOUNG PROFESSIONALS KICK OFF SOCIAL
DESCRIPTION:
LOCATION:Pinstripes\, Westfield Topanga\n6600 Topanga Canyon Boulevard
 \nLos Angeles\\, CA 91303
URL:https://www.acg.org/101/events/acg-101-2024-young-professionals-ki
 ck-social
DTSTAMP:20260420T142952Z
END:VEVENT
END:VCALENDAR
