BEGIN:VCALENDAR
VERSION:2.0
PRODID:-//ACG//Events//EN
CALSCALE:GREGORIAN
METHOD:PUBLISH
BEGIN:VTIMEZONE
TZID:America/Los_Angeles
BEGIN:STANDARD
DTSTART:19701025T090000
TZOFFSETTO:-0800
TZOFFSETFROM:-0700
RRULE:FREQ=YEARLY;BYMONTH=11;BYDAY=1SU
END:STANDARD
BEGIN:DAYLIGHT
DTSTART:19700426T100000
TZOFFSETTO:-0700
TZOFFSETFROM:-0800
RRULE:FREQ=YEARLY;BYMONTH=3;BYDAY=2SU
END:DAYLIGHT
END:VTIMEZONE
BEGIN:VEVENT
UID:ACG-101-MARCH-1ST-2024-MEMBERS-ONLY-LUNCH-THE-MAGIC-CASTLE
DTSTART;TZID=America/Los_Angeles:20240301T113058
DTEND;TZID=America/Los_Angeles:20240301T133003
STATUS:CONFIRMED
SUMMARY:ACG 101 MARCH 1st 2024 MEMBERS ONLY LUNCH @ THE MAGIC CASTLE
DESCRIPTION:
LOCATION:The Magic Castle\n7001 Franklin Avenue\nLos Angeles\\, CA 90028
URL:https://www.acg.org/101/events/acg-101-march-1st-2024-members-only
 -lunch-magic-castle
DTSTAMP:20260420T142952Z
END:VEVENT
END:VCALENDAR
