BEGIN:VCALENDAR
VERSION:2.0
PRODID:-//ACG//Events//EN
CALSCALE:GREGORIAN
METHOD:PUBLISH
BEGIN:VTIMEZONE
TZID:America/New_York
BEGIN:STANDARD
DTSTART:19701025T060000
TZOFFSETTO:-0500
TZOFFSETFROM:-0400
RRULE:FREQ=YEARLY;BYMONTH=11;BYDAY=1SU
END:STANDARD
BEGIN:DAYLIGHT
DTSTART:19700426T070000
TZOFFSETTO:-0400
TZOFFSETFROM:-0500
RRULE:FREQ=YEARLY;BYMONTH=3;BYDAY=2SU
END:DAYLIGHT
END:VTIMEZONE
BEGIN:VEVENT
UID:54e10112-aca4-4505-9393-c0873482cff1
DTSTART;TZID=America/New_York:20150210T010000
DTEND;TZID=America/New_York:20150212T010000
STATUS:CONFIRMED
SUMMARY:Rush Hour Networking - Takami Sushi
DESCRIPTION:
URL:https://www.acg.org/los-angeles/events/rush-hour-networking-takami
 -sushi
DTSTAMP:20260424T174458Z
END:VEVENT
END:VCALENDAR
