BEGIN:VCALENDAR
VERSION:2.0
PRODID:-//ACG//Events//EN
CALSCALE:GREGORIAN
METHOD:PUBLISH
BEGIN:VTIMEZONE
TZID:America/Chicago
BEGIN:STANDARD
DTSTART:19701025T070000
TZOFFSETTO:-0600
TZOFFSETFROM:-0500
RRULE:FREQ=YEARLY;BYMONTH=11;BYDAY=1SU
END:STANDARD
BEGIN:DAYLIGHT
DTSTART:19700426T080000
TZOFFSETTO:-0500
TZOFFSETFROM:-0600
RRULE:FREQ=YEARLY;BYMONTH=3;BYDAY=2SU
END:DAYLIGHT
END:VTIMEZONE
BEGIN:VEVENT
UID:0fc25dcb-f4ef-4be3-94a8-c317065d595e
DTSTART;TZID=America/Chicago:20150520T160000
DTEND;TZID=America/Chicago:20150520T180000
STATUS:CONFIRMED
SUMMARY:ACG WI: Tour at Charter Steel
DESCRIPTION:
URL:https://www.acg.org/wisconsin/events/acg-wi-tour-charter-steel
DTSTAMP:20260422T231926Z
END:VEVENT
END:VCALENDAR
