BEGIN:VCALENDAR
VERSION:2.0
PRODID:-//ACG//Events//EN
CALSCALE:GREGORIAN
METHOD:PUBLISH
BEGIN:VTIMEZONE
TZID:America/Los_Angeles
BEGIN:STANDARD
DTSTART:19701025T090000
TZOFFSETTO:-0800
TZOFFSETFROM:-0700
RRULE:FREQ=YEARLY;BYMONTH=11;BYDAY=1SU
END:STANDARD
BEGIN:DAYLIGHT
DTSTART:19700426T100000
TZOFFSETTO:-0700
TZOFFSETFROM:-0800
RRULE:FREQ=YEARLY;BYMONTH=3;BYDAY=2SU
END:DAYLIGHT
END:VTIMEZONE
BEGIN:VEVENT
UID:ACG-101-MARCH-20TH-2024-WOMEN-S-NETWORKING-MIXER
DTSTART;TZID=America/Los_Angeles:20240320T173045
DTEND;TZID=America/Los_Angeles:20240320T193057
STATUS:CONFIRMED
SUMMARY:ACG 101 March 20th 2024 Women's Networking Mixer
DESCRIPTION:
LOCATION:Morton Wealth\n27200 Agoura Road\nAgoura Hills\\, CA 91301
URL:https://www.acg.org/101/events/acg-101-march-20th-2024-womens-netw
 orking-mixer
DTSTAMP:20260420T142953Z
END:VEVENT
END:VCALENDAR
