BEGIN:VCALENDAR
VERSION:2.0
PRODID:-//ACG//Events//EN
CALSCALE:GREGORIAN
METHOD:PUBLISH
BEGIN:VTIMEZONE
TZID:America/New_York
BEGIN:STANDARD
DTSTART:19701025T060000
TZOFFSETTO:-0500
TZOFFSETFROM:-0400
RRULE:FREQ=YEARLY;BYMONTH=11;BYDAY=1SU
END:STANDARD
BEGIN:DAYLIGHT
DTSTART:19700426T070000
TZOFFSETTO:-0400
TZOFFSETFROM:-0500
RRULE:FREQ=YEARLY;BYMONTH=3;BYDAY=2SU
END:DAYLIGHT
END:VTIMEZONE
BEGIN:VEVENT
UID:2024-ACG-NY-MIDDLE-MARKET-WEEK-LP-GP-AND-FAMILY-OFFICE-DINNER
DTSTART;TZID=America/New_York:20241105T180051
DTEND;TZID=America/New_York:20241105T210051
STATUS:CONFIRMED
SUMMARY:2024 ACG NY Middle Market Week LP\, GP and Family Office Elect
 ion & Watch Party
DESCRIPTION:
LOCATION:The Harmonie Club\n4 East 60th Street\nNew York\\, NY 10022
URL:https://www.acg.org/nyc/events/2024-acg-ny-middle-market-week-lp-g
 p-and-family-office-election-watch-party
DTSTAMP:20260421T201659Z
END:VEVENT
END:VCALENDAR
