BEGIN:VCALENDAR
VERSION:2.0
PRODID:-//ACG//Events//EN
CALSCALE:GREGORIAN
METHOD:PUBLISH
BEGIN:VTIMEZONE
TZID:America/New_York
BEGIN:STANDARD
DTSTART:19701025T060000
TZOFFSETTO:-0500
TZOFFSETFROM:-0400
RRULE:FREQ=YEARLY;BYMONTH=11;BYDAY=1SU
END:STANDARD
BEGIN:DAYLIGHT
DTSTART:19700426T070000
TZOFFSETTO:-0400
TZOFFSETFROM:-0500
RRULE:FREQ=YEARLY;BYMONTH=3;BYDAY=2SU
END:DAYLIGHT
END:VTIMEZONE
BEGIN:VEVENT
UID:2024-ACG-NY-MIDDLE-MARKET-WEEK-LUNCHEON
DTSTART;TZID=America/New_York:20241108T113050
DTEND;TZID=America/New_York:20241108T140050
STATUS:CONFIRMED
SUMMARY:2024 ACG NY Middle Market Week Luncheon
DESCRIPTION:
LOCATION:The Yale Club\n50 Vanderbilt Avenue\nNew York\\, NY 10017
URL:https://www.acg.org/nyc/events/2024-acg-ny-middle-market-week-luncheon
DTSTAMP:20260420T091202Z
END:VEVENT
END:VCALENDAR
