BEGIN:VCALENDAR
VERSION:2.0
PRODID:-//ACG//Events//EN
CALSCALE:GREGORIAN
METHOD:PUBLISH
BEGIN:VTIMEZONE
TZID:America/Chicago
BEGIN:STANDARD
DTSTART:19701025T070000
TZOFFSETTO:-0600
TZOFFSETFROM:-0500
RRULE:FREQ=YEARLY;BYMONTH=11;BYDAY=1SU
END:STANDARD
BEGIN:DAYLIGHT
DTSTART:19700426T080000
TZOFFSETTO:-0500
TZOFFSETFROM:-0600
RRULE:FREQ=YEARLY;BYMONTH=3;BYDAY=2SU
END:DAYLIGHT
END:VTIMEZONE
BEGIN:VEVENT
UID:11TH-ANNUAL-PRIVATE-EQUITY-TWO-STEP-CONFERENCE-ON-5-9-24-IN-S-A
DTSTART;TZID=America/Chicago:20240509T113013
DTEND;TZID=America/Chicago:20240509T163013
STATUS:CONFIRMED
SUMMARY:11th Annual Private Equity Two-Step Conference on 5/9/24 in S.A.
DESCRIPTION:
LOCATION:San Antonio Country Club\n4100 North New Braunfels Avenue\nSa
 n Antonio\\, TX 78209
URL:https://www.acg.org/asa/events/11th-annual-private-equity-two-step
 -conference-5924-sa
DTSTAMP:20260423T121036Z
END:VEVENT
END:VCALENDAR
