BEGIN:VCALENDAR
VERSION:2.0
PRODID:-//ACG//Events//EN
CALSCALE:GREGORIAN
METHOD:PUBLISH
BEGIN:VTIMEZONE
TZID:America/Denver
BEGIN:STANDARD
DTSTART:19701025T080000
TZOFFSETTO:-0700
TZOFFSETFROM:-0600
RRULE:FREQ=YEARLY;BYMONTH=11;BYDAY=1SU
END:STANDARD
BEGIN:DAYLIGHT
DTSTART:19700426T090000
TZOFFSETTO:-0600
TZOFFSETFROM:-0700
RRULE:FREQ=YEARLY;BYMONTH=3;BYDAY=2SU
END:DAYLIGHT
END:VTIMEZONE
BEGIN:VEVENT
UID:575a1502-b066-4edb-9ff2-cd818d08ce54
DTSTART;TZID=America/Denver:20150602T103000
DTEND;TZID=America/Denver:20150602T123000
STATUS:CONFIRMED
SUMMARY:June Luncheon - Scott A. Schmid\, President and CEO\, TruStile
  Doors\, LLC
DESCRIPTION:
URL:https://www.acg.org/denver/events/june-luncheon-scott-schmid-presi
 dent-and-ceo-trustile-doors-llc
DTSTAMP:20260423T163003Z
END:VEVENT
END:VCALENDAR
