BEGIN:VCALENDAR
VERSION:2.0
PRODID:-//ACG//Events//EN
CALSCALE:GREGORIAN
METHOD:PUBLISH
BEGIN:VTIMEZONE
TZID:America/Los_Angeles
BEGIN:STANDARD
DTSTART:19701025T090000
TZOFFSETTO:-0800
TZOFFSETFROM:-0700
RRULE:FREQ=YEARLY;BYMONTH=11;BYDAY=1SU
END:STANDARD
BEGIN:DAYLIGHT
DTSTART:19700426T100000
TZOFFSETTO:-0700
TZOFFSETFROM:-0800
RRULE:FREQ=YEARLY;BYMONTH=3;BYDAY=2SU
END:DAYLIGHT
END:VTIMEZONE
BEGIN:VEVENT
UID:ACG-LOS-ANGELES-2024-STATE-OF-PRIVATE-EQUITY
DTSTART;TZID=America/Los_Angeles:20240418T170010
DTEND;TZID=America/Los_Angeles:20240418T200010
STATUS:CONFIRMED
SUMMARY:ACG Los Angeles | 2024 The State of Private Equity
DESCRIPTION:
LOCATION:The Maybourne Beverly Hills\n225 North Canon Drive\nBeverly H
 ills\\, CA 90210
URL:https://www.acg.org/los-angeles/events/acg-los-angeles-2024-state-
 private-equity
DTSTAMP:20260423T215359Z
END:VEVENT
END:VCALENDAR
