BEGIN:VCALENDAR
VERSION:2.0
PRODID:-//ACG//Events//EN
CALSCALE:GREGORIAN
METHOD:PUBLISH
BEGIN:VTIMEZONE
TZID:America/Los_Angeles
BEGIN:STANDARD
DTSTART:19701025T090000
TZOFFSETTO:-0800
TZOFFSETFROM:-0700
RRULE:FREQ=YEARLY;BYMONTH=11;BYDAY=1SU
END:STANDARD
BEGIN:DAYLIGHT
DTSTART:19700426T100000
TZOFFSETTO:-0700
TZOFFSETFROM:-0800
RRULE:FREQ=YEARLY;BYMONTH=3;BYDAY=2SU
END:DAYLIGHT
END:VTIMEZONE
BEGIN:VEVENT
UID:SMITH-TEAS-TOUR-AND-TALK-WITH-THE-CEO-ACG-PORTLAND
DTSTART;TZID=America/Los_Angeles:20240423T160044
DTEND;TZID=America/Los_Angeles:20240423T170044
STATUS:CONFIRMED
SUMMARY:ACG Portland |  Smith Teas | Tour and Talk with the CEO
DESCRIPTION:
LOCATION:Smith Teamaker Headquarters\n110 Southeast Washington Street\
 nPortland\\, OR 97214
URL:https://www.acg.org/portland/events/acg-portland-smith-teas-tour-a
 nd-talk-ceo
DTSTAMP:20260422T182250Z
END:VEVENT
END:VCALENDAR
