BEGIN:VCALENDAR
VERSION:2.0
PRODID:-//ACG//Events//EN
CALSCALE:GREGORIAN
METHOD:PUBLISH
BEGIN:VTIMEZONE
TZID:America/New_York
BEGIN:STANDARD
DTSTART:19701025T060000
TZOFFSETTO:-0500
TZOFFSETFROM:-0400
RRULE:FREQ=YEARLY;BYMONTH=11;BYDAY=1SU
END:STANDARD
BEGIN:DAYLIGHT
DTSTART:19700426T070000
TZOFFSETTO:-0400
TZOFFSETFROM:-0500
RRULE:FREQ=YEARLY;BYMONTH=3;BYDAY=2SU
END:DAYLIGHT
END:VTIMEZONE
BEGIN:VEVENT
UID:138326
DTSTART;TZID=America/New_York:20240718T150000
DTEND;TZID=America/New_York:20240910T133000
STATUS:CONFIRMED
SUMMARY:ACG Cleveland WIT:  Summer Golf Outings - SOLD OUT
DESCRIPTION:
LOCATION:Big Met (July 18) / Sleepy Hollow (August 6) / Washington Gol
 f Learning Center (September 10)\n
URL:https://www.acg.org/cleveland/events/acg-cleveland-wit-summer-golf
 -outings-sold-out
DTSTAMP:20260420T124022Z
END:VEVENT
END:VCALENDAR
