BEGIN:VCALENDAR
VERSION:2.0
PRODID:-//ACG//Events//EN
CALSCALE:GREGORIAN
METHOD:PUBLISH
BEGIN:VTIMEZONE
TZID:America/Los_Angeles
BEGIN:STANDARD
DTSTART:19701025T090000
TZOFFSETTO:-0800
TZOFFSETFROM:-0700
RRULE:FREQ=YEARLY;BYMONTH=11;BYDAY=1SU
END:STANDARD
BEGIN:DAYLIGHT
DTSTART:19700426T100000
TZOFFSETTO:-0700
TZOFFSETFROM:-0800
RRULE:FREQ=YEARLY;BYMONTH=3;BYDAY=2SU
END:DAYLIGHT
END:VTIMEZONE
BEGIN:VEVENT
UID:ACG-101-2024-JUNE-5TH-AEROSPACE-DEFENSE-PANEL
DTSTART;TZID=America/Los_Angeles:20240605T173049
DTEND;TZID=America/Los_Angeles:20240605T203049
STATUS:CONFIRMED
SUMMARY:ACG 101 2024 June 5th Aerospace & Defense Technology Leaders Panel
DESCRIPTION:
LOCATION:The Provence Room at The Westlake Village Inn\n31943 Agoura R
 oad\nWestlake Village\\, CA 91361
URL:https://www.acg.org/101/events/acg-101-2024-june-5th-aerospace-def
 ense-technology-leaders-panel
DTSTAMP:20260420T091145Z
END:VEVENT
END:VCALENDAR
