BEGIN:VCALENDAR
VERSION:2.0
PRODID:-//ACG//Events//EN
CALSCALE:GREGORIAN
METHOD:PUBLISH
BEGIN:VTIMEZONE
TZID:America/Toronto
BEGIN:STANDARD
DTSTART:19701025T060000
TZOFFSETTO:-0500
TZOFFSETFROM:-0400
RRULE:FREQ=YEARLY;BYMONTH=11;BYDAY=1SU
END:STANDARD
BEGIN:DAYLIGHT
DTSTART:19700426T070000
TZOFFSETTO:-0400
TZOFFSETFROM:-0500
RRULE:FREQ=YEARLY;BYMONTH=3;BYDAY=2SU
END:DAYLIGHT
END:VTIMEZONE
BEGIN:VEVENT
UID:139041
DTSTART;TZID=America/Toronto:20240710T170000
DTEND;TZID=America/Toronto:20240711T150000
STATUS:CONFIRMED
SUMMARY:6th Annual Summer DealSource North - July 10 & 11\, 2024
DESCRIPTION:
LOCATION:Arcadian Loft\nArcadian Loft\n401 Bay St. Simpson Tower\nToro
 nto\\, ON M5H 2Y4
URL:https://www.acg.org/toronto/events/6th-annual-summer-dealsource-no
 rth-july-10-11-2024
DTSTAMP:20260420T111511Z
END:VEVENT
END:VCALENDAR
