BEGIN:VCALENDAR
VERSION:2.0
PRODID:-//ACG//Events//EN
CALSCALE:GREGORIAN
METHOD:PUBLISH
BEGIN:VTIMEZONE
TZID:US/Mountain
BEGIN:STANDARD
DTSTART:19701025T080000
TZOFFSETTO:-0700
TZOFFSETFROM:-0600
RRULE:FREQ=YEARLY;BYMONTH=11;BYDAY=1SU
END:STANDARD
BEGIN:DAYLIGHT
DTSTART:19700426T090000
TZOFFSETTO:-0600
TZOFFSETFROM:-0700
RRULE:FREQ=YEARLY;BYMONTH=3;BYDAY=2SU
END:DAYLIGHT
END:VTIMEZONE
BEGIN:VEVENT
UID:WPN-2024-PICKLEBALL-CIDER-SOCIAL
DTSTART;TZID=US/Mountain:20240627T160000
DTEND;TZID=US/Mountain:20240627T180020
STATUS:CONFIRMED
SUMMARY:WPN 2024 Pickleball & Cider Social
DESCRIPTION:
LOCATION:Second Summer Cider Co\n4010 South Main Street\nMillcreek\\, 
 UT 84107
URL:https://www.acg.org/utah/events/wpn-2024-pickleball-cider-social
DTSTAMP:20260419T145852Z
END:VEVENT
END:VCALENDAR
