BEGIN:VCALENDAR
VERSION:2.0
PRODID:-//ACG//Events//EN
CALSCALE:GREGORIAN
METHOD:PUBLISH
BEGIN:VTIMEZONE
TZID:America/Detroit
BEGIN:STANDARD
DTSTART:19700101T060000
TZOFFSETTO:-0500
TZOFFSETFROM:-0500
END:STANDARD
END:VTIMEZONE
BEGIN:VEVENT
UID:ACG-DETROIT-FUN-AT-5-NEXTGEN-HAPPY-HOUR
DTSTART;TZID=America/Detroit:20240723T170034
DTEND;TZID=America/Detroit:20240725T190005
STATUS:CONFIRMED
SUMMARY:ACG Detroit | Fun @ 5 - NextGen Happy Hour
DESCRIPTION:
LOCATION:Huntington Bank Rooftop\n2025 Woodward Avenue\nDetroit\\, MI 48226
URL:https://www.acg.org/detroit/events/acg-detroit-fun-5-nextgen-happy-hour
DTSTAMP:20260425T112946Z
END:VEVENT
END:VCALENDAR
