BEGIN:VCALENDAR
VERSION:2.0
PRODID:-//ACG//Events//EN
CALSCALE:GREGORIAN
METHOD:PUBLISH
BEGIN:VTIMEZONE
TZID:America/Los_Angeles
BEGIN:STANDARD
DTSTART:19701025T090000
TZOFFSETTO:-0800
TZOFFSETFROM:-0700
RRULE:FREQ=YEARLY;BYMONTH=11;BYDAY=1SU
END:STANDARD
BEGIN:DAYLIGHT
DTSTART:19700426T100000
TZOFFSETTO:-0700
TZOFFSETFROM:-0800
RRULE:FREQ=YEARLY;BYMONTH=3;BYDAY=2SU
END:DAYLIGHT
END:VTIMEZONE
BEGIN:VEVENT
UID:SND-072424
DTSTART;TZID=America/Los_Angeles:20240724T170013
DTEND;TZID=America/Los_Angeles:20240724T203013
STATUS:CONFIRMED
SUMMARY:ACG San Diego | Surfside Summer Social 2024
DESCRIPTION:
LOCATION:La Jolla Beach & Tennis Club\n2000 Spindrift Drive\nSan Diego
 \\, CA 92037
URL:https://www.acg.org/sandiego/events/acg-san-diego-surfside-summer-
 social-2024
DTSTAMP:20260423T083932Z
END:VEVENT
END:VCALENDAR
