BEGIN:VCALENDAR
VERSION:2.0
PRODID:-//ACG//Events//EN
CALSCALE:GREGORIAN
METHOD:PUBLISH
BEGIN:VTIMEZONE
TZID:America/Chicago
BEGIN:STANDARD
DTSTART:19701025T070000
TZOFFSETTO:-0600
TZOFFSETFROM:-0500
RRULE:FREQ=YEARLY;BYMONTH=11;BYDAY=1SU
END:STANDARD
BEGIN:DAYLIGHT
DTSTART:19700426T080000
TZOFFSETTO:-0500
TZOFFSETFROM:-0600
RRULE:FREQ=YEARLY;BYMONTH=3;BYDAY=2SU
END:DAYLIGHT
END:VTIMEZONE
BEGIN:VEVENT
UID:2024-ACG-NEXT-KC-SUMMER-HAPPY-HOUR
DTSTART;TZID=America/Chicago:20240718T160022
DTEND;TZID=America/Chicago:20240718T180022
STATUS:CONFIRMED
SUMMARY:2024 ACG Next KC Summer Happy Hour
DESCRIPTION:
LOCATION:Breit's Stein & Deli\n412 North 5th Street\nKansas City\\, KS
  66101
URL:https://www.acg.org/kc/events/2024-acg-next-kc-summer-happy-hour
DTSTAMP:20260420T130718Z
END:VEVENT
END:VCALENDAR
